BEGIN:VCALENDAR
VERSION:2.0
PRODID:-//Hellekis Säteri - ECPv6.15.11//NONSGML v1.0//EN
CALSCALE:GREGORIAN
METHOD:PUBLISH
X-ORIGINAL-URL:https://hellekis.se
X-WR-CALDESC:Händelser för Hellekis Säteri
REFRESH-INTERVAL;VALUE=DURATION:PT1H
X-Robots-Tag:noindex
X-PUBLISHED-TTL:PT1H
BEGIN:VTIMEZONE
TZID:Europe/Stockholm
BEGIN:DAYLIGHT
TZOFFSETFROM:+0100
TZOFFSETTO:+0200
TZNAME:CEST
DTSTART:20190331T010000
END:DAYLIGHT
BEGIN:STANDARD
TZOFFSETFROM:+0200
TZOFFSETTO:+0100
TZNAME:CET
DTSTART:20191027T010000
END:STANDARD
BEGIN:DAYLIGHT
TZOFFSETFROM:+0100
TZOFFSETTO:+0200
TZNAME:CEST
DTSTART:20200329T010000
END:DAYLIGHT
BEGIN:STANDARD
TZOFFSETFROM:+0200
TZOFFSETTO:+0100
TZNAME:CET
DTSTART:20201025T010000
END:STANDARD
BEGIN:DAYLIGHT
TZOFFSETFROM:+0100
TZOFFSETTO:+0200
TZNAME:CEST
DTSTART:20210328T010000
END:DAYLIGHT
BEGIN:STANDARD
TZOFFSETFROM:+0200
TZOFFSETTO:+0100
TZNAME:CET
DTSTART:20211031T010000
END:STANDARD
END:VTIMEZONE
BEGIN:VEVENT
DTSTART;TZID=Europe/Stockholm:20200818T080000
DTEND;TZID=Europe/Stockholm:20200819T170000
DTSTAMP:20260424T155824
CREATED:20200818T140051Z
LAST-MODIFIED:20200818T140831Z
UID:1079-1597737600-1597856400@hellekis.se
SUMMARY:Julmässan inställd
DESCRIPTION:I år 2020 har vi tyvärr ställt in julmässan på Hellekis pga rådande omständigheter.
URL:https://hellekis.se/event/julmassan-installd/
LOCATION:Galleriet i stora växthuset\, Hellekis Säteri\, Hällekis\, 53394\, Sverige
CATEGORIES:julmässa
ATTACH;FMTTYPE=image/png:https://hellekis.se/wp-content/uploads/2019/10/Montage.png
END:VEVENT
END:VCALENDAR